BEGIN:VCALENDAR
VERSION:2.0
PRODID:-//moseswelfarefoundation - ECPv6.15.20//NONSGML v1.0//EN
CALSCALE:GREGORIAN
METHOD:PUBLISH
X-ORIGINAL-URL:https://moseswelfarefoundation.com
X-WR-CALDESC:Events for moseswelfarefoundation
REFRESH-INTERVAL;VALUE=DURATION:PT1H
X-Robots-Tag:noindex
X-PUBLISHED-TTL:PT1H
BEGIN:VTIMEZONE
TZID:Asia/Karachi
BEGIN:STANDARD
TZOFFSETFROM:+0500
TZOFFSETTO:+0500
TZNAME:PKT
DTSTART:20230101T000000
END:STANDARD
END:VTIMEZONE
BEGIN:VEVENT
DTSTART;TZID=Asia/Karachi:20241126T080000
DTEND;TZID=Asia/Karachi:20241210T170000
DTSTAMP:20260420T000348
CREATED:20241126T105013Z
LAST-MODIFIED:20241126T105159Z
UID:1375-1732608000-1733850000@moseswelfarefoundation.com
SUMMARY:Christmas Gift
DESCRIPTION:Happy Christmas and New Year 2025
URL:https://moseswelfarefoundation.com/event/christmas-d/
ATTACH;FMTTYPE=image/jpeg:https://moseswelfarefoundation.com/wp-content/uploads/2024/11/a4fe625f-e7dc-4da4-b8b2-3ee8de9beb31-1.jpg
ORGANIZER;CN="MWF":MAILTO:mohsin.arif81@yahoo.com
END:VEVENT
END:VCALENDAR